BEGIN:VCALENDAR
VERSION:2.0
PRODID:-//Les VERT-E-S suisses - ECPv6.15.20//NONSGML v1.0//EN
CALSCALE:GREGORIAN
METHOD:PUBLISH
X-WR-CALNAME:Les VERT-E-S suisses
X-ORIGINAL-URL:https://gruene.ch
X-WR-CALDESC:Évènements pour Les VERT-E-S suisses
REFRESH-INTERVAL;VALUE=DURATION:PT1H
X-Robots-Tag:noindex
X-PUBLISHED-TTL:PT1H
BEGIN:VTIMEZONE
TZID:Europe/Zurich
BEGIN:DAYLIGHT
TZOFFSETFROM:+0100
TZOFFSETTO:+0200
TZNAME:CEST
DTSTART:20220327T010000
END:DAYLIGHT
BEGIN:STANDARD
TZOFFSETFROM:+0200
TZOFFSETTO:+0100
TZNAME:CET
DTSTART:20221030T010000
END:STANDARD
BEGIN:DAYLIGHT
TZOFFSETFROM:+0100
TZOFFSETTO:+0200
TZNAME:CEST
DTSTART:20230326T010000
END:DAYLIGHT
BEGIN:STANDARD
TZOFFSETFROM:+0200
TZOFFSETTO:+0100
TZNAME:CET
DTSTART:20231029T010000
END:STANDARD
BEGIN:DAYLIGHT
TZOFFSETFROM:+0100
TZOFFSETTO:+0200
TZNAME:CEST
DTSTART:20240331T010000
END:DAYLIGHT
BEGIN:STANDARD
TZOFFSETFROM:+0200
TZOFFSETTO:+0100
TZNAME:CET
DTSTART:20241027T010000
END:STANDARD
END:VTIMEZONE
BEGIN:VEVENT
DTSTART;TZID=Europe/Zurich:20230905T200000
DTEND;TZID=Europe/Zurich:20230905T213000
DTSTAMP:20260420T144706
CREATED:20230831T070043Z
LAST-MODIFIED:20230831T070158Z
UID:87812-1693944000-1693949400@gruene.ch
SUMMARY:Constitution : Réseau international Vert 🌐
DESCRIPTION:
URL:https://verts.ch/evenement/constitution-reseau-international-vert
LOCATION:online
END:VEVENT
END:VCALENDAR