BEGIN:VCALENDAR
VERSION:2.0
PRODID:-//Les VERT-E-S suisses - ECPv6.15.20//NONSGML v1.0//EN
CALSCALE:GREGORIAN
METHOD:PUBLISH
X-WR-CALNAME:Les VERT-E-S suisses
X-ORIGINAL-URL:https://gruene.ch
X-WR-CALDESC:Évènements pour Les VERT-E-S suisses
REFRESH-INTERVAL;VALUE=DURATION:PT1H
X-Robots-Tag:noindex
X-PUBLISHED-TTL:PT1H
BEGIN:VTIMEZONE
TZID:Europe/Zurich
BEGIN:DAYLIGHT
TZOFFSETFROM:+0100
TZOFFSETTO:+0200
TZNAME:CEST
DTSTART:20210328T010000
END:DAYLIGHT
BEGIN:STANDARD
TZOFFSETFROM:+0200
TZOFFSETTO:+0100
TZNAME:CET
DTSTART:20211031T010000
END:STANDARD
BEGIN:DAYLIGHT
TZOFFSETFROM:+0100
TZOFFSETTO:+0200
TZNAME:CEST
DTSTART:20220327T010000
END:DAYLIGHT
BEGIN:STANDARD
TZOFFSETFROM:+0200
TZOFFSETTO:+0100
TZNAME:CET
DTSTART:20221030T010000
END:STANDARD
BEGIN:DAYLIGHT
TZOFFSETFROM:+0100
TZOFFSETTO:+0200
TZNAME:CEST
DTSTART:20230326T010000
END:DAYLIGHT
BEGIN:STANDARD
TZOFFSETFROM:+0200
TZOFFSETTO:+0100
TZNAME:CET
DTSTART:20231029T010000
END:STANDARD
END:VTIMEZONE
BEGIN:VEVENT
DTSTART;TZID=Europe/Zurich:20220217T190000
DTEND;TZID=Europe/Zurich:20220217T220000
DTSTAMP:20260423T071647
CREATED:20211001T061158Z
LAST-MODIFIED:20211214T082804Z
UID:77745-1645124400-1645135200@gruene.ch
SUMMARY:La quête d'égalité des LGBTIQ+ continue !
DESCRIPTION:
URL:https://verts.ch/evenement/la-quete-degalite-des-lgbtiq-continue
END:VEVENT
END:VCALENDAR